BEGIN:VCALENDAR
VERSION:2.0
PRODID:-// Zahnärztlicher Arbeitskreis für Praxisführung und Fortbildung e.V. - ECPv5.5.0.1//NONSGML v1.0//EN
CALSCALE:GREGORIAN
METHOD:PUBLISH
X-WR-CALNAME: Zahnärztlicher Arbeitskreis für Praxisführung und Fortbildung e.V.
X-ORIGINAL-URL:https://zapf.org
X-WR-CALDESC:Veranstaltungen für  Zahnärztlicher Arbeitskreis für Praxisführung und Fortbildung e.V.
BEGIN:VTIMEZONE
TZID:Europe/Berlin
BEGIN:DAYLIGHT
TZOFFSETFROM:+0100
TZOFFSETTO:+0200
TZNAME:CEST
DTSTART:20260329T010000
END:DAYLIGHT
BEGIN:STANDARD
TZOFFSETFROM:+0200
TZOFFSETTO:+0100
TZNAME:CET
DTSTART:20261025T010000
END:STANDARD
END:VTIMEZONE
BEGIN:VEVENT
DTSTART;TZID=Europe/Berlin:20261207T193000
DTEND;TZID=Europe/Berlin:20261207T220000
DTSTAMP:20260424T120924
CREATED:20260205T113631Z
LAST-MODIFIED:20260205T113655Z
UID:2504-1796671800-1796680800@zapf.org
SUMMARY:Zahnmedizinische Erkennung und Behandlung von Kindesmisshandlung und Vernachlässigung
DESCRIPTION:Dr. Curt Goho\, Schnaittenbach
URL:https://zapf.org/veranstaltung/zahnmedizinische-erkennung-und-behandlung-von-kindesmisshandlung-und-vernachlaessigung/
LOCATION:online
CATEGORIES:Arbeitssitzung
END:VEVENT
BEGIN:VEVENT
DTSTART;TZID=Europe/Berlin:20261102T193000
DTEND;TZID=Europe/Berlin:20261102T220000
DTSTAMP:20260424T120924
CREATED:20260205T113028Z
LAST-MODIFIED:20260205T113511Z
UID:2502-1793647800-1793656800@zapf.org
SUMMARY:Ein Update zur Vitalerhaltung der Pulpa
DESCRIPTION:PD Dr. David Donnermeyer\, Bern
URL:https://zapf.org/veranstaltung/ein-update-zur-vitalerhaltung-der-pulpa/
LOCATION:online
CATEGORIES:Arbeitssitzung
END:VEVENT
BEGIN:VEVENT
DTSTART;TZID=Europe/Berlin:20261005T193000
DTEND;TZID=Europe/Berlin:20261005T220000
DTSTAMP:20260424T120924
CREATED:20260205T112909Z
LAST-MODIFIED:20260205T112909Z
UID:2500-1791228600-1791237600@zapf.org
SUMMARY:Festsitzend oder herausnehmbar auf Implantaten: Was ist besser?
DESCRIPTION:Prof. Dr. Florian Beuer\, Berlin
URL:https://zapf.org/veranstaltung/festsitzend-oder-herausnehmbar-auf-implantaten-was-ist-besser/
LOCATION:online
CATEGORIES:Arbeitssitzung
END:VEVENT
BEGIN:VEVENT
DTSTART;TZID=Europe/Berlin:20260921T193000
DTEND;TZID=Europe/Berlin:20260921T220000
DTSTAMP:20260424T120924
CREATED:20260205T112736Z
LAST-MODIFIED:20260205T112736Z
UID:2498-1790019000-1790028000@zapf.org
SUMMARY:Z.A.P.F.-plus: Angst - Grundlagen zur Entstehung und zum gelingendem Umgang
DESCRIPTION:Prof. Dr. Tobias Renner\, Tübingen
URL:https://zapf.org/veranstaltung/z-a-p-f-plus-angst-grundlagen-zur-entstehung-und-zum-gelingendem-umgang/
LOCATION:online
CATEGORIES:Z.A.P.F.-plus
END:VEVENT
BEGIN:VEVENT
DTSTART;TZID=Europe/Berlin:20260914T193000
DTEND;TZID=Europe/Berlin:20260914T220000
DTSTAMP:20260424T120924
CREATED:20260205T112552Z
LAST-MODIFIED:20260205T112553Z
UID:2496-1789414200-1789423200@zapf.org
SUMMARY:Kieferorthopädische Indikationen: Was ist frühzeitig machbar? Was übernimmt die Kasse?
DESCRIPTION:Prof. Dr. Bernd Koos\, Tübingen
URL:https://zapf.org/veranstaltung/kieferorthopaedische-indikationen-was-ist-fruehzeitig-machbar-was-uebernimmt-die-kasse/
LOCATION:online
CATEGORIES:Arbeitssitzung
END:VEVENT
BEGIN:VEVENT
DTSTART;TZID=Europe/Berlin:20260706T193000
DTEND;TZID=Europe/Berlin:20260706T220000
DTSTAMP:20260424T120924
CREATED:20260205T112409Z
LAST-MODIFIED:20260205T112410Z
UID:2494-1783366200-1783375200@zapf.org
SUMMARY:Traumatologie der bleibenden Dentition bei Kindern und Jugendlichen
DESCRIPTION:Prof. Dr. Gabriel Krastl\, Würzburg
URL:https://zapf.org/veranstaltung/traumatologie-der-bleibenden-dentition-bei-kindern-und-jugendlichen/
LOCATION:online
CATEGORIES:Arbeitssitzung
END:VEVENT
BEGIN:VEVENT
DTSTART;TZID=Europe/Berlin:20260608T193000
DTEND;TZID=Europe/Berlin:20260608T220000
DTSTAMP:20260424T120924
CREATED:20260205T112207Z
LAST-MODIFIED:20260205T112208Z
UID:2492-1780947000-1780956000@zapf.org
SUMMARY:Ganz ohne Zuzahlung? Umsatzpotenziale bei Kassen- und Privatpatienten
DESCRIPTION:Christian López Quintero\, Potsdam
URL:https://zapf.org/veranstaltung/ganz-ohne-zuzahlung-umsatzpotenziale-bei-kassen-und-privatpatienten/
LOCATION:online
CATEGORIES:Arbeitssitzung
END:VEVENT
BEGIN:VEVENT
DTSTART;TZID=Europe/Berlin:20260504T193000
DTEND;TZID=Europe/Berlin:20260504T220000
DTSTAMP:20260424T120924
CREATED:20260205T112020Z
LAST-MODIFIED:20260414T171322Z
UID:2490-1777923000-1777932000@zapf.org
SUMMARY:Zahndurchbruchsstörungen - Diagnostik und Therapie
DESCRIPTION:Der Zahndurchbruch ist definiert als ”… die Bewegung eines Zahnes vom Ort seiner Entwicklung im Alveolarfortsatz zu seiner funktionellen Position in der Mundhöhle.“ (Massler & Schour\, 1941)Es handelt sich hierbei um einen komplexen\, lokalisierten\, beidseitig symmetrischen und zeitlich festgelegten Prozess\, wobei verschiedene Stadien des Zahndurchbruchs durchlaufen werden: die prä-eruptive Bewegung\, die intra-ossäre Eruption\, die Penetration der Mukosa\, die prä-okklusale Eruption und die post- okklusale Eruption. Grundsätzlich kann es zu Durchbruchsstörungen in all diesen Phasen kommen\, wobei die Ursachen ganz unterschiedlich sind. Im Allgemeinen werden drei Konditionen unterschieden: die Impaktion\, die Reimpaktion und die Primäre Durchbruchsstörung. In diesem Seminar werden neben Ätiologie und Pathogenese der verschiedenen Arten von Durchbruchsstörungen\, die klinisch relevanten Aspekte von Prävention\, Diagnose und Therapie anhand zahlreicher klinischer Beispiele vorgestellt und diskutiert. \n\n\n\nProf. Dr. Angelika Stellzig-Eisenhauer\, Würzburg
URL:https://zapf.org/veranstaltung/zahndurchbruchsstoerungen-diagnostik-und-therapie/
LOCATION:online
CATEGORIES:Arbeitssitzung
END:VEVENT
END:VCALENDAR